BEGIN:VCALENDAR
VERSION:2.0
PRODID:-//TFCChurch - ECPv6.15.20//NONSGML v1.0//EN
CALSCALE:GREGORIAN
METHOD:PUBLISH
X-WR-CALNAME:TFCChurch
X-ORIGINAL-URL:https://tfcchurch.co.uk
X-WR-CALDESC:Events for TFCChurch
REFRESH-INTERVAL;VALUE=DURATION:PT1H
X-Robots-Tag:noindex
X-PUBLISHED-TTL:PT1H
BEGIN:VTIMEZONE
TZID:UTC
BEGIN:STANDARD
TZOFFSETFROM:+0000
TZOFFSETTO:+0000
TZNAME:UTC
DTSTART:20240101T000000
END:STANDARD
END:VTIMEZONE
BEGIN:VEVENT
DTSTART;VALUE=DATE:20250731
DTEND;VALUE=DATE:20250801
DTSTAMP:20260424T081047
CREATED:20250630T172514Z
LAST-MODIFIED:20250728T070228Z
UID:23869-1753920000-1754006399@tfcchurch.co.uk
SUMMARY:II Timothy 4
DESCRIPTION:II Timothy 4    31st July 2025 \nMinister Brian Bradley \n\n			\n		\n	\n	\n	\n	\n		Edited-Part-63-Especially-the-Parchments-2-Timothy-4-v-13-Rv13-18OPP103v17-22MartyrdomD2Cor	\n	\n	\n\n	\n\nReading  II Timothy 4:13-18   \nOpening Prayer  \nSermon Part 63 ‘Especially the Parchments’ II Timothy 4:13 \nPsalm 103:17-22 ‘But unto them that do him fear’ Tune Martyrdom \nDoxology II Corinthians 13 (Authorized King James Version) \n14 The grace of the Lord Jesus Christ\, and the love of God\, and the communion of the Holy Ghost\, be with you all. Amen.
URL:https://tfcchurch.co.uk/event/ii-timothy-4-59/
LOCATION:Online
CATEGORIES:Fundamentals
END:VEVENT
END:VCALENDAR