BEGIN:VCALENDAR
VERSION:2.0
PRODID:-//TFCChurch - ECPv6.15.20//NONSGML v1.0//EN
CALSCALE:GREGORIAN
METHOD:PUBLISH
X-ORIGINAL-URL:https://tfcchurch.co.uk
X-WR-CALDESC:Events for TFCChurch
REFRESH-INTERVAL;VALUE=DURATION:PT1H
X-Robots-Tag:noindex
X-PUBLISHED-TTL:PT1H
BEGIN:VTIMEZONE
TZID:UTC
BEGIN:STANDARD
TZOFFSETFROM:+0000
TZOFFSETTO:+0000
TZNAME:UTC
DTSTART:20240101T000000
END:STANDARD
END:VTIMEZONE
BEGIN:VEVENT
DTSTART;VALUE=DATE:20250311
DTEND;VALUE=DATE:20250312
DTSTAMP:20260420T122244
CREATED:20250223T203206Z
LAST-MODIFIED:20250310T045932Z
UID:23051-1741651200-1741737599@tfcchurch.co.uk
SUMMARY:Bible Study
DESCRIPTION:Bible Study  11th March 2025 \nToday we continue with the 3rd message in our short break from our Bible study in Elisha due to the trouble had with the original recordings.  Our plans to rectify this are well underway and we trust we will be back to our study of Elisha after the 4th message next week.  We trust you are profiting from this interim ‘mini-series’ – being 4 messages from the parable at Matthew 5:13-16. The sermons are entitled ‘Salt and Light.’ \nMinister Brian Bradley    \n\n			\n		\n	\n	\n	\n	\n		TFCC-Part-34-Salt-and-Light-Matthew-5-v-13-16-3-OPRMatt5v13-162Cor4v1-7P67v1-7D2Cor	\n	\n	\n\n	\nDedicatory Prayer and Reading  Matthew 5:13-16; II Corinthians 4:1-7\n\nSermon Part 34 ‘Salt and Light’ (3) Matthew 5:13-16 \n\nPsalm 67:1-7 ‘Lord\, bless and pity us\,’  Tune Franconia\n\nDoxology II Corinthians 13 (Authorized King James Version)\n14 The grace of the Lord Jesus Christ\, and the love of God\, and the communion of the Holy Ghost\, be with you all. Amen.
URL:https://tfcchurch.co.uk/event/bible-study-74/
LOCATION:Online
CATEGORIES:Bible Study
END:VEVENT
END:VCALENDAR