BEGIN:VCALENDAR
VERSION:2.0
PRODID:-//TFCChurch - ECPv6.15.20//NONSGML v1.0//EN
CALSCALE:GREGORIAN
METHOD:PUBLISH
X-ORIGINAL-URL:https://tfcchurch.co.uk
X-WR-CALDESC:Events for TFCChurch
REFRESH-INTERVAL;VALUE=DURATION:PT1H
X-Robots-Tag:noindex
X-PUBLISHED-TTL:PT1H
BEGIN:VTIMEZONE
TZID:UTC
BEGIN:STANDARD
TZOFFSETFROM:+0000
TZOFFSETTO:+0000
TZNAME:UTC
DTSTART:20240101T000000
END:STANDARD
END:VTIMEZONE
BEGIN:VEVENT
DTSTART;VALUE=DATE:20250325
DTEND;VALUE=DATE:20250326
DTSTAMP:20260422T103838
CREATED:20250303T125055Z
LAST-MODIFIED:20250323T211054Z
UID:23090-1742860800-1742947199@tfcchurch.co.uk
SUMMARY:Bible Study
DESCRIPTION:Bible Study  25th March 2025 \nWe return today\, after a 4 week break\, in our Bible Study of Elisha\, with grateful thanks to the Lord and to Mrs Walton in Canada who has kindly supplied the missing recordings of these messages.  The Lord bless her and us as we now continue in this study.  \nMinister Brian Bradley    \n\n			\n		\n	\n	\n	\n	\n		Part-65-Gospel-lessons-from-the-Syrian-seige-of-Samaria-2-Kings-6-v24-7-v20-11-R7v10-20P9v11-15StFulbertCPDNu	\n	\n	\n\n	\nReading  II Kings 7:10-20\nDedicatory Prayer\nSermon Elisha Part 65 ‘Gospel lessons from the Syrian siege of Samaria’ (11) II Kings 6:24-7:20 \nPsalm 9:11-15 ‘O sing ye praise to the Lord …’  Tune St Fulbert\nClosing Prayer\nDoxology II Corinthians 13 (Authorized King James Version)\n14 The grace of the Lord Jesus Christ\, and the love of God\, and the communion of the Holy Ghost\, be with you all. Amen.
URL:https://tfcchurch.co.uk/event/bible-study-76/
LOCATION:Online
CATEGORIES:Bible Study
END:VEVENT
END:VCALENDAR