BEGIN:VCALENDAR
VERSION:2.0
PRODID:-//TFCChurch - ECPv6.15.20//NONSGML v1.0//EN
CALSCALE:GREGORIAN
METHOD:PUBLISH
X-WR-CALNAME:TFCChurch
X-ORIGINAL-URL:https://tfcchurch.co.uk
X-WR-CALDESC:Events for TFCChurch
REFRESH-INTERVAL;VALUE=DURATION:PT1H
X-Robots-Tag:noindex
X-PUBLISHED-TTL:PT1H
BEGIN:VTIMEZONE
TZID:UTC
BEGIN:STANDARD
TZOFFSETFROM:+0000
TZOFFSETTO:+0000
TZNAME:UTC
DTSTART:20240101T000000
END:STANDARD
END:VTIMEZONE
BEGIN:VEVENT
DTSTART;VALUE=DATE:20250429
DTEND;VALUE=DATE:20250430
DTSTAMP:20260422T102603
CREATED:20250331T112436Z
LAST-MODIFIED:20250427T210911Z
UID:23265-1745884800-1745971199@tfcchurch.co.uk
SUMMARY:Bible Study
DESCRIPTION:Bible Study  29th April 2025 \nMinister Brian Bradley    \n\n			\n		\n	\n	\n	\n	\n		Part-70-Elisha-at-Damascus-2-Kings-8-v-9-15-1-OPRv7-15P145AOTSv17-21WhitburnCPD2Cor-1	\n	\n	\n\n	\nDedicatory Prayer and Reading  II Kings 8:7-15\nSermon Elisha Part 70 ‘Elisha at Damascus’ (1) II Kings 8:9-15\nPsalm 145 AOTS:17-21 ‘The Lord is just in his ways all‘  Tune Whitburn\nClosing Prayer\nDoxology II Corinthians 13 (Authorized King James Version)\n14 The grace of the Lord Jesus Christ\, and the love of God\, and the communion of the Holy Ghost\, be with you all. Amen.
URL:https://tfcchurch.co.uk/event/bible-study-81/
LOCATION:Online
CATEGORIES:Bible Study
END:VEVENT
END:VCALENDAR