BEGIN:VCALENDAR
VERSION:2.0
PRODID:-//TFCChurch - ECPv6.15.20//NONSGML v1.0//EN
CALSCALE:GREGORIAN
METHOD:PUBLISH
X-ORIGINAL-URL:https://tfcchurch.co.uk
X-WR-CALDESC:Events for TFCChurch
REFRESH-INTERVAL;VALUE=DURATION:PT1H
X-Robots-Tag:noindex
X-PUBLISHED-TTL:PT1H
BEGIN:VTIMEZONE
TZID:UTC
BEGIN:STANDARD
TZOFFSETFROM:+0000
TZOFFSETTO:+0000
TZNAME:UTC
DTSTART:20250101T000000
END:STANDARD
END:VTIMEZONE
BEGIN:VEVENT
DTSTART;VALUE=DATE:20260414
DTEND;VALUE=DATE:20260415
DTSTAMP:20260421T131445
CREATED:20260326T095834Z
LAST-MODIFIED:20260414T193600Z
UID:26900-1776124800-1776211199@tfcchurch.co.uk
SUMMARY:Bible Study
DESCRIPTION:Bible Study  14th April 2026 \nMinister Brian Bradley  \n ‘I Samuel’ \n\n			\n		\n	\n	\n	\n	\n		TFCC-BS-Part-44-Saul-with-Amelek-and-its-Lessons-I-Samuel-15-v-1-35-1-OPRv1-9P89v13-16StAndrewCPDNu	\n	\n	\n\n	\nDedicatory Prayer and Reading  I Samuel 15:1-9\nSermon Part 44 ‘Saul with Amelek and its lessons’ I Samuel 15:1-35\nPsalm 89:13-16 ‘Thou hast an arm that’s full of pow’r\,‘  Tune St Andrew\nClosing Prayer\nDoxology  Numbers 6  Authorized (King James) Version \n\n24 The Lord bless thee\, and keep thee: 25 the Lord make his face shine upon thee\, and be gracious unto thee: 26 the Lord lift up his countenance upon thee\, and give thee peace.
URL:https://tfcchurch.co.uk/event/bible-study-23/
LOCATION:Online
CATEGORIES:Bible Study
END:VEVENT
BEGIN:VEVENT
DTSTART;VALUE=DATE:20260421
DTEND;VALUE=DATE:20260422
DTSTAMP:20260421T131445
CREATED:20260330T110932Z
LAST-MODIFIED:20260419T205817Z
UID:26943-1776729600-1776815999@tfcchurch.co.uk
SUMMARY:Bible Study
DESCRIPTION:Bible Study  21st April 2026 \nMinister Brian Bradley  \n ‘I Samuel’ \n\n			\n		\n	\n	\n	\n	\n		TFCC-BS-Part-45-Saul-with-Amelek-and-its-Lessons-1-Samuel-15-v-1-35-2-OPRv1-16P132v10-14StFulbertCPDNu	\n	\n	\n\n	\nDedicatory Prayer and Reading  I Samuel 15:1-16\nSermon Part 45 ‘Saul with Amelek and its lessons’ (2) I Samuel 15:1-35\nPsalm 132:10-14 ‘For thine own servant David’s sake‘  Tune St Fulbert\nClosing Prayer\nDoxology  Numbers 6  Authorized (King James) Version \n\n24 The Lord bless thee\, and keep thee: 25 the Lord make his face shine upon thee\, and be gracious unto thee: 26 the Lord lift up his countenance upon thee\, and give thee peace.
URL:https://tfcchurch.co.uk/event/bible-study-27/
LOCATION:Online
CATEGORIES:Bible Study
END:VEVENT
END:VCALENDAR