BEGIN:VCALENDAR
VERSION:2.0
PRODID:-//TFCChurch - ECPv6.15.20//NONSGML v1.0//EN
CALSCALE:GREGORIAN
METHOD:PUBLISH
X-ORIGINAL-URL:https://tfcchurch.co.uk
X-WR-CALDESC:Events for TFCChurch
REFRESH-INTERVAL;VALUE=DURATION:PT1H
X-Robots-Tag:noindex
X-PUBLISHED-TTL:PT1H
BEGIN:VTIMEZONE
TZID:UTC
BEGIN:STANDARD
TZOFFSETFROM:+0000
TZOFFSETTO:+0000
TZNAME:UTC
DTSTART:20250101T000000
END:STANDARD
END:VTIMEZONE
BEGIN:VEVENT
DTSTART;VALUE=DATE:20260101
DTEND;VALUE=DATE:20260102
DTSTAMP:20260422T090853
CREATED:20251201T115652Z
LAST-MODIFIED:20251229T104159Z
UID:26083-1767225600-1767311999@tfcchurch.co.uk
SUMMARY:II Timothy 4
DESCRIPTION:II Timothy 4   1 st January 2026 \nMinister Brian Bradley \n\n			\n		\n	\n	\n	\n	\n		Edited-Part-85-Onesiphorus-2-Timothy-4-v-19-1-R2Tim1v1-182Tim4v19OPP94v17-23PerfectWayD2Cor	\n	\n	\n\n	\n\n Reading   II Timothy 1:11-18\, 4:19 \nDedicatory Prayer  \nSermon Part 85 ‘Onesiphorus’ (1) II Timothy 4:19 \nPsalm 94:17-23 ‘Unless the Lord had been my help …’ Tune Perfect Way \nDoxology II Corinthians 13 (Authorized King James Version) \n“The grace of the Lord Jesus Christ\, and the love of God\, and the communion of the Holy Ghost\, be with you all. Amen.  \n 
URL:https://tfcchurch.co.uk/event/ii-timothy-4-4/
LOCATION:Online
CATEGORIES:Fundamentals
END:VEVENT
BEGIN:VEVENT
DTSTART;VALUE=DATE:20260108
DTEND;VALUE=DATE:20260109
DTSTAMP:20260422T090853
CREATED:20251204T115819Z
LAST-MODIFIED:20260104T181737Z
UID:26118-1767830400-1767916799@tfcchurch.co.uk
SUMMARY:II Timothy 4
DESCRIPTION:II Timothy 4   8th January 2026 \nMinister Brian Bradley \n\n			\n		\n	\n	\n	\n	\n		Edited-Part-86-Onesiphorus-2-Timothy-4-v-19-2-RLk9v23-262Tim1v15-182Tim4v19P60v1-5StAndrewD2Cor	\n	\n	\n\n	\n\nReading   Luke 9:23-26; II Timothy 1:15-18\, 4:19 \nDedicatory Prayer  \nSermon Part 86 ‘Onesiphorus’ (2) II Timothy 4:19 \nPsalm 60:1-5 ‘O LORD\, thou hast rejected us\,’ Tune St Andrew \nDoxology II Corinthians 13 (Authorized King James Version) \n“The grace of the Lord Jesus Christ\, and the love of God\, and the communion of the Holy Ghost\, be with you all. Amen.  \n 
URL:https://tfcchurch.co.uk/event/ii-timothy-4-5/
LOCATION:Online
CATEGORIES:Fundamentals
END:VEVENT
BEGIN:VEVENT
DTSTART;VALUE=DATE:20260115
DTEND;VALUE=DATE:20260116
DTSTAMP:20260422T090853
CREATED:20251209T153256Z
LAST-MODIFIED:20260111T205323Z
UID:26170-1768435200-1768521599@tfcchurch.co.uk
SUMMARY:II Timothy 4
DESCRIPTION:II Timothy 4   15th January 2026 \nMinister Brian Bradley \n\n			\n		\n	\n	\n	\n	\n		Edited-Part-87-Erastus-and-Trophimus-2-Timothy-4-v-20-1-Rv19-22OPP50v12-18ZurichD2Cor	\n	\n	\n\n	\n\nReading   II Timothy 4:19-22 \nDedicatory Prayer  \nSermon Part 87 ‘Erastus and Trophimus’ (1) II Timothy 4:20 \nPsalm 50:12-18 ‘Then if I hungry were\,’ Tune Zurich \nDoxology II Corinthians 13 (Authorized King James Version) \n“The grace of the Lord Jesus Christ\, and the love of God\, and the communion of the Holy Ghost\, be with you all. Amen.  \n 
URL:https://tfcchurch.co.uk/event/ii-timothy-4-6/
LOCATION:Online
CATEGORIES:Fundamentals
END:VEVENT
BEGIN:VEVENT
DTSTART;VALUE=DATE:20260122
DTEND;VALUE=DATE:20260123
DTSTAMP:20260422T090853
CREATED:20251215T115516Z
LAST-MODIFIED:20260125T201827Z
UID:26217-1769040000-1769126399@tfcchurch.co.uk
SUMMARY:II Timothy 4
DESCRIPTION:II Timothy 4   22nd January 2026 \nMinister Brian Bradley \n\n			\n		\n	\n	\n	\n	\n		Edited-Part-88-Erastus-and-Trophimus-2-Timothy-4-v-20-2-Rv1-22OPP89v47-52NewingtonD2Cor	\n	\n	\n\n	\n\nReading   II Timothy 4:1-22 \nDedicatory Prayer  \nSermon Part 88 ‘Erastus and Trophimus’ (2) II Timothy 4:20 \nPsalm 89:47-52 ‘Remember\, Lord\, how short a time …’ Tune Newington \nDoxology II Corinthians 13 (Authorized King James Version) \n“The grace of the Lord Jesus Christ\, and the love of God\, and the communion of the Holy Ghost\, be with you all. Amen.  \nHaving completed this series on II Tmothy 4 we intend now to follow on next week with the series of sermons on the Savoy Declaration of Faith and Order 1658. \n 
URL:https://tfcchurch.co.uk/event/ii-timothy-4-16/
LOCATION:Online
CATEGORIES:Fundamentals
END:VEVENT
BEGIN:VEVENT
DTSTART;VALUE=DATE:20260129
DTEND;VALUE=DATE:20260130
DTSTAMP:20260422T090853
CREATED:20251229T143100Z
LAST-MODIFIED:20260331T175507Z
UID:26278-1769644800-1769731199@tfcchurch.co.uk
SUMMARY:The Savoy Declaration of Faith and Order\, A.D.1658
DESCRIPTION: 29th January 2026  \nUnder the banner of our Thursday ‘Fundamental’ sermons\, and having completed last week the series on II Timothy 4\, we have come to think it most appropriate\, if not nowadays necessary\, to commence a weekly study of The Savoy Declaration of Faith 1658 A.D. \nThese are sermons prepared in the past by Mr Bradley for the then newly forming Philippine Congregational Churches who were seeking faithful support and who have since gone by grace from strength to strength in biblical understanding and practise.   \nEach sermon is part of a series of commentary on each chapter of The Savoy Declaration of Faith 1658.  We believe they form a vital\, yet much neglected\, key to our understanding of the Christian Reformed Evangelical\, Protestant and Congregational Faith and so trust each one revised will be very helpful here today. \nMinister Brian Bradley \nThe Savoy Declaration of Faith 1658 AD   \nPart 1 –  ‘The Holy Scripture’  \n\n			\n		\n	\n	\n	\n	\n		A-Chapter-1-OF-THE-HOLY-SCRIPTURE-1	\n	\n	\n\n	\n\nNote – to access the wording for this section of the Savoy RIGHT click HERE and from the drop down menu select ‘Open link in split view’ .
URL:https://tfcchurch.co.uk/event/ii-timothy-4-17/
LOCATION:Online
CATEGORIES:Fundamentals
END:VEVENT
END:VCALENDAR