BEGIN:VCALENDAR
VERSION:2.0
PRODID:-//TFCChurch - ECPv6.15.20//NONSGML v1.0//EN
CALSCALE:GREGORIAN
METHOD:PUBLISH
X-WR-CALNAME:TFCChurch
X-ORIGINAL-URL:https://tfcchurch.co.uk
X-WR-CALDESC:Events for TFCChurch
REFRESH-INTERVAL;VALUE=DURATION:PT1H
X-Robots-Tag:noindex
X-PUBLISHED-TTL:PT1H
BEGIN:VTIMEZONE
TZID:UTC
BEGIN:STANDARD
TZOFFSETFROM:+0000
TZOFFSETTO:+0000
TZNAME:UTC
DTSTART:20240101T000000
END:STANDARD
END:VTIMEZONE
BEGIN:VEVENT
DTSTART;VALUE=DATE:20251218
DTEND;VALUE=DATE:20251219
DTSTAMP:20260424T105024
CREATED:20251110T042422Z
LAST-MODIFIED:20251215T102611Z
UID:25986-1766016000-1766102399@tfcchurch.co.uk
SUMMARY:II Timothy 4
DESCRIPTION:II Timothy 4   18th December 2025 \nMinister Brian Bradley \n\n			\n		\n	\n	\n	\n	\n		Edited-Part-83-Prisca-and-Aquila-2-Timothy-4-v-19-1-RActs18v1-424-28Rom16v3-2Tim4v19-22OPP90v13-17TUNEDHe	\n	\n	\n\n	\n\n Reading  Acts 18:1-4\,24-28; Romans 16:3; II Timothy 4:19-22 \nDedicatory Prayer  \nSermon Part 83 ‘Priscilla and Aquila’ (1) II Timothy 4:19 \nPsalm 90:13-17 ‘Turn yet again to us\, O Lord\,’ Tune St Flavian \nDoxology Hebrews 13 (Authorized King James Version) \n20 Now the God of peace\, that brought again from the dead our Lord Jesus\, that great shepherd of the sheep\, through the blood of the everlasting covenant\, 21 make you perfect in every good work to do his will\, working in you that which is wellpleasing in his sight\, through Jesus Christ; to whom be glory for ever and ever. Amen. \n 
URL:https://tfcchurch.co.uk/event/ii-timothy-4-2/
LOCATION:Online
CATEGORIES:Fundamentals
END:VEVENT
END:VCALENDAR