BEGIN:VCALENDAR
VERSION:2.0
PRODID:-//TFCChurch - ECPv6.15.20//NONSGML v1.0//EN
CALSCALE:GREGORIAN
METHOD:PUBLISH
X-ORIGINAL-URL:https://tfcchurch.co.uk
X-WR-CALDESC:Events for TFCChurch
REFRESH-INTERVAL;VALUE=DURATION:PT1H
X-Robots-Tag:noindex
X-PUBLISHED-TTL:PT1H
BEGIN:VTIMEZONE
TZID:UTC
BEGIN:STANDARD
TZOFFSETFROM:+0000
TZOFFSETTO:+0000
TZNAME:UTC
DTSTART:20250101T000000
END:STANDARD
END:VTIMEZONE
BEGIN:VEVENT
DTSTART;VALUE=DATE:20260101
DTEND;VALUE=DATE:20260102
DTSTAMP:20260422T103522
CREATED:20251201T115652Z
LAST-MODIFIED:20251229T104159Z
UID:26083-1767225600-1767311999@tfcchurch.co.uk
SUMMARY:II Timothy 4
DESCRIPTION:II Timothy 4   1 st January 2026 \nMinister Brian Bradley \n\n			\n		\n	\n	\n	\n	\n		Edited-Part-85-Onesiphorus-2-Timothy-4-v-19-1-R2Tim1v1-182Tim4v19OPP94v17-23PerfectWayD2Cor	\n	\n	\n\n	\n\n Reading   II Timothy 1:11-18\, 4:19 \nDedicatory Prayer  \nSermon Part 85 ‘Onesiphorus’ (1) II Timothy 4:19 \nPsalm 94:17-23 ‘Unless the Lord had been my help …’ Tune Perfect Way \nDoxology II Corinthians 13 (Authorized King James Version) \n“The grace of the Lord Jesus Christ\, and the love of God\, and the communion of the Holy Ghost\, be with you all. Amen.  \n 
URL:https://tfcchurch.co.uk/event/ii-timothy-4-4/
LOCATION:Online
CATEGORIES:Fundamentals
END:VEVENT
END:VCALENDAR