BEGIN:VCALENDAR
VERSION:2.0
PRODID:-//TFCChurch - ECPv6.15.20//NONSGML v1.0//EN
CALSCALE:GREGORIAN
METHOD:PUBLISH
X-WR-CALNAME:TFCChurch
X-ORIGINAL-URL:https://tfcchurch.co.uk
X-WR-CALDESC:Events for TFCChurch
REFRESH-INTERVAL;VALUE=DURATION:PT1H
X-Robots-Tag:noindex
X-PUBLISHED-TTL:PT1H
BEGIN:VTIMEZONE
TZID:UTC
BEGIN:STANDARD
TZOFFSETFROM:+0000
TZOFFSETTO:+0000
TZNAME:UTC
DTSTART:20250101T000000
END:STANDARD
END:VTIMEZONE
BEGIN:VEVENT
DTSTART;VALUE=DATE:20260409
DTEND;VALUE=DATE:20260410
DTSTAMP:20260424T132824
CREATED:20260310T142453Z
LAST-MODIFIED:20260406T095600Z
UID:26822-1775692800-1775779199@tfcchurch.co.uk
SUMMARY:The Savoy Declaration of Faith and Order 1658 AD
DESCRIPTION:9th April 2026  \nMinister Brian Bradley \nThe Savoy Declaration of Faith 1658 AD   \nChapter 8 iii (section 4) – ‘OF CHRIST THE MEDIATOR’  \n\n			\n		\n	\n	\n	\n	\n		Chapter-8-OF-CHRIST-THE-MEDIATOR-S4	\n	\n	\n\n	\n\nNote – to access the wording for this section of the Savoy RIGHT click HERE and from the drop down menu select ‘Open link in split view’ .
URL:https://tfcchurch.co.uk/event/the-savoy-declaration-of-faith-and-order-1658-ad-2/
LOCATION:Online
CATEGORIES:Fundamentals
END:VEVENT
BEGIN:VEVENT
DTSTART;VALUE=DATE:20260416
DTEND;VALUE=DATE:20260417
DTSTAMP:20260424T132824
CREATED:20260326T102434Z
LAST-MODIFIED:20260414T193607Z
UID:26905-1776297600-1776383999@tfcchurch.co.uk
SUMMARY:The Savoy Declaration of Faith 1658 AD 
DESCRIPTION:16th April 2026  \nMinister Brian Bradley \nThe Savoy Declaration of Faith 1658 AD   \nChapter 8 iv (sections 5\,6\,7\,&8) – ‘OF CHRIST THE MEDIATOR’  \n\n			\n		\n	\n	\n	\n	\n		Chapter-8-OF-CHRIST-THE-MEDIATOR-S5-S6-S7-and-S8	\n	\n	\n\n	\n\nNote – to access the wording for this section of the Savoy RIGHT click HERE and from the drop down menu select ‘Open link in split view’ .
URL:https://tfcchurch.co.uk/event/the-savoy-declaration-of-faith-1658-ad-4/
LOCATION:Online
CATEGORIES:Fundamentals
END:VEVENT
BEGIN:VEVENT
DTSTART;VALUE=DATE:20260423
DTEND;VALUE=DATE:20260424
DTSTAMP:20260424T132824
CREATED:20260330T114228Z
LAST-MODIFIED:20260419T205824Z
UID:26950-1776902400-1776988799@tfcchurch.co.uk
SUMMARY:The Savoy Declaration of Faith 1658 AD
DESCRIPTION:23rd April 2026  \nMinister Brian Bradley \nThe Savoy Declaration of Faith 1658 AD   \nChapter 9 (sections 1-5) – ‘OF FREE-WILL’  \n\n			\n		\n	\n	\n	\n	\n		Chapter-9-OF-FREE-WILL	\n	\n	\n\n	\n\nNote – to access the wording for this section of the Savoy RIGHT click HERE and from the drop down menu select ‘Open link in split view’ .
URL:https://tfcchurch.co.uk/event/the-savoy-declaration-of-faith-1658-ad-5/
LOCATION:Online
CATEGORIES:Fundamentals
END:VEVENT
END:VCALENDAR