BEGIN:VCALENDAR
VERSION:2.0
PRODID:-//TFCChurch - ECPv6.15.20//NONSGML v1.0//EN
CALSCALE:GREGORIAN
METHOD:PUBLISH
X-WR-CALNAME:TFCChurch
X-ORIGINAL-URL:https://tfcchurch.co.uk
X-WR-CALDESC:Events for TFCChurch
REFRESH-INTERVAL;VALUE=DURATION:PT1H
X-Robots-Tag:noindex
X-PUBLISHED-TTL:PT1H
BEGIN:VTIMEZONE
TZID:UTC
BEGIN:STANDARD
TZOFFSETFROM:+0000
TZOFFSETTO:+0000
TZNAME:UTC
DTSTART:20240101T000000
END:STANDARD
END:VTIMEZONE
BEGIN:VEVENT
DTSTART;VALUE=DATE:20251030
DTEND;VALUE=DATE:20251031
DTSTAMP:20260424T104338
CREATED:20250929T042720Z
LAST-MODIFIED:20251026T210046Z
UID:25348-1761782400-1761868799@tfcchurch.co.uk
SUMMARY:II Timothy 4
DESCRIPTION:II Timothy 4   30th October 2025 \nMinister Brian Bradley \n\n			\n		\n	\n	\n	\n	\n		TFCC-Edited-Part-76-The-Nature-of-Gods-Kingdom-2-Timothy-4-v-18-2-RDan2v36-45IITim4v18OPP72v5-812BishopthorpeD2Cor	\n	\n	\n\n	\n\nReading  Daniel 2:36-45; II Timothy 4:18 \nOpening Prayer  \nSermon Part 76 ‘The nature of God’s Kingdom’ (2) II Timothy 4:18 \nPsalm 62:5-8\,12 ‘My soul\, wait thou with patience …’ Tune Bishopthorpe \nDoxology II Corinthians 13 (Authorized King James Version) \n14 The grace of the Lord Jesus Christ\, and the love of God\, and the communion of the Holy Ghost\, be with you all. Amen.
URL:https://tfcchurch.co.uk/event/ii-timothy-4-71/
LOCATION:Online
CATEGORIES:Fundamentals
END:VEVENT
BEGIN:VEVENT
DTSTART;VALUE=DATE:20251023
DTEND;VALUE=DATE:20251024
DTSTAMP:20260424T104338
CREATED:20250929T025416Z
LAST-MODIFIED:20251019T200556Z
UID:25318-1761177600-1761263999@tfcchurch.co.uk
SUMMARY:II Timothy 4
DESCRIPTION:II Timothy 4    23rd October 2025 \nMinister Brian Bradley \n\n			\n		\n	\n	\n	\n	\n		Edited-Part-75-The-Nature-of-Gods-Kingdom-2-Timothy-4-v-18-1-RActs1v1-9IITim4v16-18OPP67v1-7FranconiaCPD2Cor	\n	\n	\n\n	\n\nReading  Acts 1:1-9; II Timothy 4:16-18 \nOpening Prayer  \nSermon Part 75  ‘The nature of God’s Kingdom’ II Timothy 4:18 \nPsalm 67:1-7 ‘Lord\, bless and pity us\,’ Tune Franconia \nClosing Prayer \nDoxology II Corinthians 13 (Authorized King James Version) \n14 The grace of the Lord Jesus Christ\, and the love of God\, and the communion of the Holy Ghost\, be with you all. Amen.
URL:https://tfcchurch.co.uk/event/ii-timothy-4-70/
LOCATION:Online
CATEGORIES:Fundamentals
END:VEVENT
BEGIN:VEVENT
DTSTART;VALUE=DATE:20251016
DTEND;VALUE=DATE:20251017
DTSTAMP:20260424T104338
CREATED:20250925T062820Z
LAST-MODIFIED:20251012T191014Z
UID:25244-1760572800-1760659199@tfcchurch.co.uk
SUMMARY:II Timothy 4
DESCRIPTION:II Timothy 4    16th October 2025 \nMinister Brian Bradley \n\n			\n		\n	\n	\n	\n	\n		Edited-Part-74-Deliverance-From-Evil-2-Timothy-4-v-18-RMatt6v9-152Tim4v16-18OPP79v9-13NewingtonCPD2Cor	\n	\n	\n\n	\n\nReading  Matthew 6:9-15; II Timothy 4:16-18 \nOpening Prayer  \nSermon Part 74  ‘Deliverance from Evil’ II Timothy 4:18 \nPsalm 79:9-13 ‘For thy name’s glory help us\, Lord\,’ Tune Newington \nClosing Prayer \nDoxology II Corinthians 13 (Authorized King James Version) \n14 The grace of the Lord Jesus Christ\, and the love of God\, and the communion of the Holy Ghost\, be with you all. Amen.
URL:https://tfcchurch.co.uk/event/ii-timothy-4-69/
LOCATION:Online
CATEGORIES:Fundamentals
END:VEVENT
BEGIN:VEVENT
DTSTART;VALUE=DATE:20251009
DTEND;VALUE=DATE:20251010
DTSTAMP:20260424T104338
CREATED:20250908T122203Z
LAST-MODIFIED:20251006T204735Z
UID:24999-1759968000-1760054399@tfcchurch.co.uk
SUMMARY:II Timothy 4
DESCRIPTION:II Timothy 4    9th October 2025 \nMinister Brian Bradley \n\n			\n		\n	\n	\n	\n	\n		Edited-Part-73-Perservering-in-Grace-2-Timothy-4-v-18-2-Rv16-18OPP32v7-11StBernardCPD2Cor-TFCC-FUN-edit	\n	\n	\n\n	\n\nReading  II Timothy 4:16-18 \nOpening Prayer  \nSermon Part 73  ‘Persevering in Grace’ (2) II Timothy 4:18 \nPsalm 32:7-11 ‘Thou art my hiding place\, thou shalt …’ Tune St Bernard \nClosing Prayer \nDoxology II Corinthians 13 (Authorized King James Version) \n14 The grace of the Lord Jesus Christ\, and the love of God\, and the communion of the Holy Ghost\, be with you all. Amen.
URL:https://tfcchurch.co.uk/event/ii-timothy-4-68/
LOCATION:Online
CATEGORIES:Fundamentals
END:VEVENT
BEGIN:VEVENT
DTSTART;VALUE=DATE:20251002
DTEND;VALUE=DATE:20251003
DTSTAMP:20260424T104338
CREATED:20250915T123832Z
LAST-MODIFIED:20250928T190107Z
UID:25118-1759363200-1759449599@tfcchurch.co.uk
SUMMARY:II Timothy 4
DESCRIPTION:II Timothy 4   2nd October 2025 \nMinister Brian Bradley \n\n			\n		\n	\n	\n	\n	\n		Edited-Part-72-Perservering-in-Grace-2-Timothy-4-v-18-1-R2Pet1v1-112Tim4v16-18OPP79v9-13StAndrewD2Cor	\n	\n	\n\n	\n\nReading  II Peter 1:1-11; II Timothy 4:16-18 \nOpening Prayer  \nSermon Part 72 – ‘Persevering in Grace’ (1) II Timothy 4:18 \nPsalm 79:9-13 ‘For thy name’s glory help us\, Lord\,’ Tune St Andrew \nDoxology II Corinthians 13 (Authorized King James Version) \n14 The grace of the Lord Jesus Christ\, and the love of God\, and the communion of the Holy Ghost\, be with you all. Amen.
URL:https://tfcchurch.co.uk/event/25118/
LOCATION:Online
CATEGORIES:Fundamentals
END:VEVENT
BEGIN:VEVENT
DTSTART;VALUE=DATE:20250925
DTEND;VALUE=DATE:20250926
DTSTAMP:20260424T104338
CREATED:20250902T144911Z
LAST-MODIFIED:20250925T080524Z
UID:24865-1758758400-1758844799@tfcchurch.co.uk
SUMMARY:II Timothy 4
DESCRIPTION:II Timothy 4    25th September 2025 \nMinister Brian Bradley \n\n			\n		\n	\n	\n	\n	\n		Edited-Part-71-Confidence-in-Gods-Preservation-2-Timothy-4-v-17-18-RRom8v31-392Tm4v16-18OPP55v19-23StMagnusD2Cor	\n	\n	\n\n	\n\nReading  Romans 8:31-39; II Timothy 4:16-18 \nOpening Prayer  \nSermon Part 71 – ‘Confidence in God’s preservation ‘ II Timothy 4:17-18 \nPsalm 55:19-23 ‘The Lord shall hear\, and them afflict\,’ Tune St Magnus \nDoxology II Corinthians 13 (Authorized King James Version) \n14 The grace of the Lord Jesus Christ\, and the love of God\, and the communion of the Holy Ghost\, be with you all. Amen.
URL:https://tfcchurch.co.uk/event/ii-timothy-4-67/
LOCATION:Online
CATEGORIES:Fundamentals
END:VEVENT
BEGIN:VEVENT
DTSTART;VALUE=DATE:20250918
DTEND;VALUE=DATE:20250919
DTSTAMP:20260424T104338
CREATED:20250825T123331Z
LAST-MODIFIED:20250914T191846Z
UID:24718-1758153600-1758239999@tfcchurch.co.uk
SUMMARY:II Timothy 4
DESCRIPTION:II Timothy 4    18th September 2025 \nMinister Brian Bradley \n\n			\n		\n	\n	\n	\n	\n		Edited-Part-70-Gods-Faithfulness-to-His-People-2-Timothy-4-v-17-18-RHeb10v11-242Tim4v16-18OPP36v1-7StAnneD2Cor	\n	\n	\n\n	\n\nReading  Hebrews 10:11-24; II Timothy 4:16-18 \nOpening Prayer  \nSermon Part 70 – ‘God’s faithfulness to his people’ II Timothy 4:17-18 \nPsalm 36:1-7 ‘The wicked man’s transgression …’ Tune St Anne \nDoxology II Corinthians 13 (Authorized King James Version) \n14 The grace of the Lord Jesus Christ\, and the love of God\, and the communion of the Holy Ghost\, be with you all. Amen.
URL:https://tfcchurch.co.uk/event/ii-timothy-4-66/
LOCATION:Online
CATEGORIES:Fundamentals
END:VEVENT
BEGIN:VEVENT
DTSTART;VALUE=DATE:20250911
DTEND;VALUE=DATE:20250912
DTSTAMP:20260424T104338
CREATED:20250818T162642Z
LAST-MODIFIED:20250908T085001Z
UID:24550-1757548800-1757635199@tfcchurch.co.uk
SUMMARY:II Timothy 4
DESCRIPTION:II Timothy 4    11th September 2025 \nMinister Brian Bradley \n\n			\n		\n	\n	\n	\n	\n		Edited-Part-69-Deserted-at-His-First-Trial-2-Timothy-4-v-16-18-4-RHeb4v12-5v52Tim4v16-18OPP113v1-9StfulbertD2Cor	\n	\n	\n\n	\n\nReading  Hebrews 4:12-5:5; II Timothy 4:16-18 \nOpening Prayer  \nSermon Part 69 – ‘Deserted at his first trial’ (4) II Timothy 4:16-18 \nPsalm 113:1-9 ‘Praise God: ye servants of the Lord\,’ Tune St Fulbert \nDoxology II Corinthians 13 (Authorized King James Version) \n14 The grace of the Lord Jesus Christ\, and the love of God\, and the communion of the Holy Ghost\, be with you all. Amen.
URL:https://tfcchurch.co.uk/event/ii-timothy-4-65/
LOCATION:Online
CATEGORIES:Fundamentals
END:VEVENT
BEGIN:VEVENT
DTSTART;VALUE=DATE:20250904
DTEND;VALUE=DATE:20250905
DTSTAMP:20260424T104338
CREATED:20250806T125132Z
LAST-MODIFIED:20250831T204030Z
UID:24495-1756944000-1757030399@tfcchurch.co.uk
SUMMARY:II Timothy 4
DESCRIPTION:II Timothy 4    4th September 2025 \nMinister Brian Bradley \n\n			\n		\n	\n	\n	\n	\n		Edited-Part-68-Deserted-at-His-First-Trial-2-Timothy-4-v-16-18-3-R1Jn1v1-102Tim4v16-18OPP18v1-6LloydD2Cor	\n	\n	\n\n	\n\nReading  I John 1:1-10; II Timothy 4:16-18 \nOpening Prayer  \nSermon Part 68 – ‘Deserted at his first trial’ (3) II Timothy 4:16-18 \nPsalm 18:1-6 ‘Thee will I love\, O Lord\, my strength.’ Tune Lloyd \nDoxology II Corinthians 13 (Authorized King James Version) \n14 The grace of the Lord Jesus Christ\, and the love of God\, and the communion of the Holy Ghost\, be with you all. Amen.
URL:https://tfcchurch.co.uk/event/ii-timothy-4-64/
LOCATION:Online
CATEGORIES:Fundamentals
END:VEVENT
BEGIN:VEVENT
DTSTART;VALUE=DATE:20250828
DTEND;VALUE=DATE:20250829
DTSTAMP:20260424T104338
CREATED:20250728T172416Z
LAST-MODIFIED:20250825T090205Z
UID:24332-1756339200-1756425599@tfcchurch.co.uk
SUMMARY:II Timothy 4
DESCRIPTION:II Timothy 4    28th August 2025 \nMinister Brian Bradley \n\n			\n		\n	\n	\n	\n	\n		Edited-Part-67-Deserted-at-His-First-Trial-2-Timothy-4-v-16-18-2-RMatt18v21-352Tim4v16-18OPP130v108MartyrdomCPD2Cor	\n	\n	\n\n	\n\nReading  Matthew 18:21-35; II Timothy 4:16-18 \nOpening Prayer  \nSermon Part 67 – ‘Deserted at his first trial’ (2) II Timothy 4:16-18 \nPsalm 130:1-8 ‘Lord\, from the depth to thee I cry’d.’ Tune Martyrdom \nClosing Prayer \nDoxology II Corinthians 13 (Authorized King James Version) \n14 The grace of the Lord Jesus Christ\, and the love of God\, and the communion of the Holy Ghost\, be with you all. Amen.
URL:https://tfcchurch.co.uk/event/ii-timothy-4-63/
LOCATION:Online
CATEGORIES:Fundamentals
END:VEVENT
BEGIN:VEVENT
DTSTART;VALUE=DATE:20250821
DTEND;VALUE=DATE:20250822
DTSTAMP:20260424T104338
CREATED:20250721T094326Z
LAST-MODIFIED:20250817T213930Z
UID:24166-1755734400-1755820799@tfcchurch.co.uk
SUMMARY:II Timothy 4
DESCRIPTION:II Timothy 4    21st August 2025 \nMinister Brian Bradley \n\n			\n		\n	\n	\n	\n	\n		Edited-Part-66-Deserted-at-His-First-Trial-2-Timothy-4-v-16-18-1-R2Tim1v8-184v16-18OPP85v6-13GlasgowDJu	\n	\n	\n\n	\n\nReading  II Timothy 1:8-18; 4:16-18  \nOpening Prayer  \nSermon Part 66 ‘Deserted at his first trial’ (1) II Timothy 4:16-18 \nPsalm 85:6-13 ‘That in thee may thy people joy\,’ Tune Glasgow \nDoxology Jude (Authorized King James Version) \n24 Now unto him that is able to keep you from falling\, and to present you faultless before the presence of his glory with exceeding joy\, 25 to the only wise God our Saviour\, be glory and majesty\, dominion and power\, both now and ever. Amen.
URL:https://tfcchurch.co.uk/event/ii-timothy-4-62/
LOCATION:Online
CATEGORIES:Fundamentals
END:VEVENT
BEGIN:VEVENT
DTSTART;VALUE=DATE:20250814
DTEND;VALUE=DATE:20250815
DTSTAMP:20260424T104338
CREATED:20250714T111435Z
LAST-MODIFIED:20250810T211935Z
UID:23985-1755129600-1755215999@tfcchurch.co.uk
SUMMARY:II Timothy 4
DESCRIPTION:II Timothy 4    14th August 2025 \nMinister Brian Bradley \n\n			\n		\n	\n	\n	\n	\n		Edited-Part-65-Alexander-the-Coppersmith-2-Timothy-4-v-14-15-2-Rv14-18DPP9v15-20StMagnusD2Cor	\n	\n	\n\n	\n\nReading  II Timothy 4:14-18   \nOpening Prayer  \nSermon Part 65 ‘Alexander the Coppersmith’ (2) II Timothy 4:14-15 \nPsalm 9:15-20 ‘The heathen are sunk in the pit …’ Tune St Magnus \nDoxology II Corinthians 13 (Authorized King James Version) \n14 The grace of the Lord Jesus Christ\, and the love of God\, and the communion of the Holy Ghost\, be with you all. Amen.
URL:https://tfcchurch.co.uk/event/ii-timothy-4-61/
LOCATION:Online
CATEGORIES:Fundamentals
END:VEVENT
BEGIN:VEVENT
DTSTART;VALUE=DATE:20250807
DTEND;VALUE=DATE:20250808
DTSTAMP:20260424T104338
CREATED:20250714T072306Z
LAST-MODIFIED:20250803T194447Z
UID:23952-1754524800-1754611199@tfcchurch.co.uk
SUMMARY:II Timothy 4
DESCRIPTION:II Timothy 4    7th August 2025 \nMinister Brian Bradley \n\n			\n		\n	\n	\n	\n	\n		Edited-Part-64-Alexander-the-Coppersmith-2-Timothy-4-v-14-15-Rv14-18OPP79v9-13StAnneD2Cor	\n	\n	\n\n	\n\nReading  II Timothy 4:14-18   \nOpening Prayer  \nSermon Part 64 ‘Alexander the Coppersmith’ II Timothy 4:14-15 \nPsalm 79:9-13 ‘For thy name’s glory help us\, Lord\,’ Tune St Anne \nDoxology II Corinthians 13 (Authorized King James Version) \n14 The grace of the Lord Jesus Christ\, and the love of God\, and the communion of the Holy Ghost\, be with you all. Amen.
URL:https://tfcchurch.co.uk/event/ii-timothy-4-60/
LOCATION:Online
CATEGORIES:Fundamentals
END:VEVENT
BEGIN:VEVENT
DTSTART;VALUE=DATE:20250731
DTEND;VALUE=DATE:20250801
DTSTAMP:20260424T104338
CREATED:20250630T172514Z
LAST-MODIFIED:20250728T070228Z
UID:23869-1753920000-1754006399@tfcchurch.co.uk
SUMMARY:II Timothy 4
DESCRIPTION:II Timothy 4    31st July 2025 \nMinister Brian Bradley \n\n			\n		\n	\n	\n	\n	\n		Edited-Part-63-Especially-the-Parchments-2-Timothy-4-v-13-Rv13-18OPP103v17-22MartyrdomD2Cor	\n	\n	\n\n	\n\nReading  II Timothy 4:13-18   \nOpening Prayer  \nSermon Part 63 ‘Especially the Parchments’ II Timothy 4:13 \nPsalm 103:17-22 ‘But unto them that do him fear’ Tune Martyrdom \nDoxology II Corinthians 13 (Authorized King James Version) \n14 The grace of the Lord Jesus Christ\, and the love of God\, and the communion of the Holy Ghost\, be with you all. Amen.
URL:https://tfcchurch.co.uk/event/ii-timothy-4-59/
LOCATION:Online
CATEGORIES:Fundamentals
END:VEVENT
BEGIN:VEVENT
DTSTART;VALUE=DATE:20250724
DTEND;VALUE=DATE:20250725
DTSTAMP:20260424T104338
CREATED:20250623T103341Z
LAST-MODIFIED:20250720T200327Z
UID:23824-1753315200-1753401599@tfcchurch.co.uk
SUMMARY:II Timothy 4
DESCRIPTION:II Timothy 4    24th July 2025 \nMinister Brian Bradley \n\n			\n		\n	\n	\n	\n	\n		Edited-Part-62-Carpus-and-Pauls-Requirements-2-Timothy-4-v-13-2-R2Tim4v9-18OPP118v1-9StMagnusCPD2Cor	\n	\n	\n\n	\n\nReading  II Timothy 4:9-18      \nOpening Prayer  \nSermon Part 62 ‘Carpus and Paul’s requirements’ (2) II Timothy 4:13 \nPsalm 118:1-9 ‘O praise the Lord\, for he is good;’ Tune St Magnus \nClosing Prayer \nDoxology II Corinthians 13 (Authorized King James Version) \n14 The grace of the Lord Jesus Christ\, and the love of God\, and the communion of the Holy Ghost\, be with you all. Amen.
URL:https://tfcchurch.co.uk/event/ii-timothy-4-58/
LOCATION:Online
CATEGORIES:Fundamentals
END:VEVENT
BEGIN:VEVENT
DTSTART;VALUE=DATE:20250717
DTEND;VALUE=DATE:20250718
DTSTAMP:20260424T104338
CREATED:20250616T105643Z
LAST-MODIFIED:20250713T183427Z
UID:23782-1752710400-1752796799@tfcchurch.co.uk
SUMMARY:II Timothy 4
DESCRIPTION:II Timothy 4    17th July 2025 \nMinister Brian Bradley \n\n			\n		\n	\n	\n	\n	\n		Edited-Part-61-Carpus-and-Pauls-Requirements-2-Timothy-4-v-13-1-OPRActs20v16-382Timv12-13P84v7-12HarringtonD2Cor	\n	\n	\n\n	\n\nOpening Prayer and Reading  Acts 20:16-38; II Timothy 4:12-13 \nSermon Part 61 ‘Carpus and Paul’s requirements’ (1) II Timothy 4:13 \nPsalm 84:7-12 ‘So they from strength unwearied go’ Tune Harrington \nDoxology II Corinthians 13 (Authorized King James Version) \n14 The grace of the Lord Jesus Christ\, and the love of God\, and the communion of the Holy Ghost\, be with you all. Amen.
URL:https://tfcchurch.co.uk/event/ii-timothy-4-57/
LOCATION:Online
CATEGORIES:Fundamentals
END:VEVENT
BEGIN:VEVENT
DTSTART;VALUE=DATE:20250710
DTEND;VALUE=DATE:20250711
DTSTAMP:20260424T104338
CREATED:20250609T141402Z
LAST-MODIFIED:20250706T170344Z
UID:23736-1752105600-1752191999@tfcchurch.co.uk
SUMMARY:II Timothy 4
DESCRIPTION:II Timothy 4    10th July 2025 \nMinister Brian Bradley \n\n			\n		\n	\n	\n	\n	\n		Edited-Part-60-Tychicus-Beloved-and-Faithful-2-Timothy-4-v-12-3-R2Cor1v1-102Tim4v9-12P89v1-6StStephenD2Cor	\n	\n	\n\n	\n\n Reading  II Corinthians 1:1-10; II Timothy 4:9-12 \nDedicatory Prayer  \nSermon Part 60 ‘Tychicus\, beloved and faithful’ (3) II Timothy 4:12 \nPsalm 89:1-6 ‘God’s mercies I will ever sing‘ Tune St Stephen \nDoxology II Corinthians 13 (Authorized King James Version) \n14 The grace of the Lord Jesus Christ\, and the love of God\, and the communion of the Holy Ghost\, be with you all. Amen.
URL:https://tfcchurch.co.uk/event/ii-timothy-4-56/
LOCATION:Online
CATEGORIES:Fundamentals
END:VEVENT
BEGIN:VEVENT
DTSTART;VALUE=DATE:20250703
DTEND;VALUE=DATE:20250704
DTSTAMP:20260424T104338
CREATED:20250609T082545Z
LAST-MODIFIED:20250629T194229Z
UID:23702-1751500800-1751587199@tfcchurch.co.uk
SUMMARY:II Timothy 4
DESCRIPTION:II Timothy 4    3rd July 2025 \nMinister Brian Bradley \n\n			\n		\n	\n	\n	\n	\n		Edited-Part-59-Tychicus-Beloved-and-Faithful-2-Timothy-4-v-12-2-REph6v21-24Col4v7-82Tim4v9-12OPP73v24-28EvanD2Cor	\n	\n	\n\n	\n\n Reading  Ephesians 6:21-24; Colossians 4:7-8; II Timothy 4:9-12 \nDedicatory Prayer  \nSermon Part 59 ‘Tychicus\, beloved and faithful’ (2) II Timothy 4:12 \nPsalm 73:24-28 ‘Thou\, with thy counsel\, while I live\,‘ Tune Evan \nDoxology II Corinthians 13 (Authorized King James Version) \n14 The grace of the Lord Jesus Christ\, and the love of God\, and the communion of the Holy Ghost\, be with you all. Amen.
URL:https://tfcchurch.co.uk/event/ii-timothy-4-55/
LOCATION:Online
CATEGORIES:Fundamentals
END:VEVENT
BEGIN:VEVENT
DTSTART;VALUE=DATE:20250626
DTEND;VALUE=DATE:20250627
DTSTAMP:20260424T104338
CREATED:20250526T154410Z
LAST-MODIFIED:20250623T050440Z
UID:23638-1750896000-1750982399@tfcchurch.co.uk
SUMMARY:II Timothy 4
DESCRIPTION:II Timothy 4    26th June 2025 \nMinister Brian Bradley \n\n			\n		\n	\n	\n	\n	\n		Edited-Part-58-Tychicus-Beloved-and-Faithful-2-Timothy-4-v-12-1-Rv9-18OPP71v1-8NewingtonD2Cor	\n	\n	\n\n	\n\n Reading  II Timothy 4:9-18 \nDedicatory Prayer  \nSermon Part 58 ‘Tychicus\, beloved and faithful’ (1) II Timothy 4:12 \nPsalm 71:1-8 ‘O LORD\, my hope and confidence …‘ Tune Newington \nDoxology II Corinthians 13 (Authorized King James Version) \n14 The grace of the Lord Jesus Christ\, and the love of God\, and the communion of the Holy Ghost\, be with you all. Amen.
URL:https://tfcchurch.co.uk/event/ii-timothy-4-54/
LOCATION:Online
CATEGORIES:Fundamentals
END:VEVENT
BEGIN:VEVENT
DTSTART;VALUE=DATE:20250619
DTEND;VALUE=DATE:20250620
DTSTAMP:20260424T104338
CREATED:20250526T145744Z
LAST-MODIFIED:20250615T193432Z
UID:23625-1750291200-1750377599@tfcchurch.co.uk
SUMMARY:II Timothy 4
DESCRIPTION:II Timothy 4    19th June 2025 \nMinister Brian Bradley \n\n			\n		\n	\n	\n	\n	\n		Edited-Part-57-Mark-a-Profitable-Minister-2-Timothy-4-v-11-5-RRom10v8-20IITimv9-11OPP126v1-6StFulbertD2Cor	\n	\n	\n\n	\n\n Reading  Romans 10:8-20; II Timothy 4:9-11 \nDedicatory Prayer  \nSermon Part 57 ‘Mark the profitable minister’ (5) II Timothy 4:11 \nPsalm 126:1-6 ‘When Sion’s bondage God turn’d back\, ‘ Tune St Fulbert \nDoxology II Corinthians 13 (Authorized King James Version) \n14 The grace of the Lord Jesus Christ\, and the love of God\, and the communion of the Holy Ghost\, be with you all. Amen.
URL:https://tfcchurch.co.uk/event/ii-timothy-4-53/
LOCATION:Online
CATEGORIES:Fundamentals
END:VEVENT
BEGIN:VEVENT
DTSTART;VALUE=DATE:20250612
DTEND;VALUE=DATE:20250613
DTSTAMP:20260424T104338
CREATED:20250514T081819Z
LAST-MODIFIED:20250609T074252Z
UID:23549-1749686400-1749772799@tfcchurch.co.uk
SUMMARY:II Timothy 4
DESCRIPTION:II Timothy 4    12th June 2025 \nMinister Brian Bradley \n\n			\n		\n	\n	\n	\n	\n		Edited-Part-56-Mark-a-Profitable-Minister-2-Timothy-4-v-11-4-R2Cor4v1-182Tim4v11OPP107v8-1142-43StAndrewD2Cor	\n	\n	\n\n	\n\n Reading  II Corinthians 4:1-18; II Timothy 4:11 \nDedicatory Prayer  \nSermon Part 56 ‘Mark the profitable minister’ (4) II Timothy 4:11 \nPsalm 107:8-11 ‘O that men to the Lord would give …‘ Tune St Andrew \nDoxology II Corinthians 13 (Authorized King James Version) \n14 The grace of the Lord Jesus Christ\, and the love of God\, and the communion of the Holy Ghost\, be with you all. Amen.
URL:https://tfcchurch.co.uk/event/ii-timothy-4-52/
LOCATION:Online
CATEGORIES:Fundamentals
END:VEVENT
BEGIN:VEVENT
DTSTART;VALUE=DATE:20250605
DTEND;VALUE=DATE:20250606
DTSTAMP:20260424T104338
CREATED:20250512T105704Z
LAST-MODIFIED:20250601T181712Z
UID:23509-1749081600-1749167999@tfcchurch.co.uk
SUMMARY:II Timothy 4
DESCRIPTION:II Timothy 4    5th June 2025 \nMinister Brian Bradley \n\n			\n		\n	\n	\n	\n	\n		Edited-Part-55-Mark-a-Profitable-Minister-2-Timothy-4-v-11-3-Rv9-18OPP60v1-5StAndrewCPD2Cor	\n	\n	\n\n	\n\n Reading  II Timothy 4:9-18 – Dedicatory Prayer  \nSermon Part 55 ‘Mark\, the profitable minister’ (3) II Timothy 4:11 \nPsalm 60:1-5 ‘O LORD\, thou hast rejected us‘ Tune St Andrew \nClosing Prayer \nDoxology II Corinthians 13 (Authorized King James Version) \n14 The grace of the Lord Jesus Christ\, and the love of God\, and the communion of the Holy Ghost\, be with you all. Amen.
URL:https://tfcchurch.co.uk/event/ii-timothy-4-51/
LOCATION:Online
CATEGORIES:Fundamentals
END:VEVENT
BEGIN:VEVENT
DTSTART;VALUE=DATE:20250529
DTEND;VALUE=DATE:20250530
DTSTAMP:20260424T104338
CREATED:20250427T231406Z
LAST-MODIFIED:20250525T195113Z
UID:23460-1748476800-1748563199@tfcchurch.co.uk
SUMMARY:II Timothy 4
DESCRIPTION:II Timothy 4    29th May 2025 \nMinister Brian Bradley \n\n			\n		\n	\n	\n	\n	\n		Edited-Part-54-Mark-a-Profitable-Minister-2-Timothy-4-v-11-2-OPRv9-18P106v43-48StBernardDJu	\n	\n	\n\n	\n\nDedicatory Prayer and Reading  II Timothy 4:9-18 \nSermon Part 54 ‘Mark the profitable minister’ (2) II Timothy 4:11 \nPsalm 106:43-48 ‘He many times deliver’d them;‘ Tune St Bernard \nDoxology Jude (Authorized King James Version) \n24 Now unto him that is able to keep you from falling\, and to present you faultless before the presence of his glory with exceeding joy\, 25 to the only wise God our Saviour\, be glory and majesty\, dominion and power\, both now and ever. Amen.
URL:https://tfcchurch.co.uk/event/ii-timothy-4-50/
LOCATION:Online
CATEGORIES:Fundamentals
END:VEVENT
BEGIN:VEVENT
DTSTART;VALUE=DATE:20250522
DTEND;VALUE=DATE:20250523
DTSTAMP:20260424T104338
CREATED:20250425T133801Z
LAST-MODIFIED:20250518T201313Z
UID:23417-1747872000-1747958399@tfcchurch.co.uk
SUMMARY:II Timothy 4
DESCRIPTION:II Timothy 4    22nd May 2025 \nMinister Brian Bradley \n\n			\n		\n	\n	\n	\n	\n		Edited-Part-53-Mark-a-Profitable-Minister-2-Timothy-4-v-11-P65v1-5StStephenCPD2Cor	\n	\n	\n\n	\n\nDedicatory Prayer and Reading  Acts 15:36-41; II Timothy 4:9-18 \nSermon Part 53 ‘Mark the profitable minister’ II Timothy 4:11 \nPsalm 65:1-5 ‘Praise waits for thee in Sion\, Lord:‘ Tune St Stephen \nClosing Prayer \nDoxology II Corinthians 13 (Authorized King James Version) \n14 The grace of the Lord Jesus Christ\, and the love of God\, and the communion of the Holy Ghost\, be with you all. Amen.
URL:https://tfcchurch.co.uk/event/ii-timothy-4-49/
LOCATION:Online
CATEGORIES:Fundamentals
END:VEVENT
BEGIN:VEVENT
DTSTART;VALUE=DATE:20250515
DTEND;VALUE=DATE:20250516
DTSTAMP:20260424T104338
CREATED:20250415T101525Z
LAST-MODIFIED:20250512T104451Z
UID:23373-1747267200-1747353599@tfcchurch.co.uk
SUMMARY:II Timothy 4
DESCRIPTION:II Timothy 4    15th May 2025 \nMinister Brian Bradley \n\n			\n		\n	\n	\n	\n	\n		Edited-Part-52-Only-Luke-is-With-Me-2-Timothy-4-v-11-P2v8-12StBernardCPD2Cor	\n	\n	\n\n	\n\nDedicatory Prayer and Reading  II Timothy 4:9-18 \nSermon Part 52 ‘Only Luke is with me’ II Timothy 4:11 \nPsalm 2:8-12 ‘Ask of me for heritage‘ Tune St Bernard \nClosing Prayer \nDoxology II Corinthians 13 (Authorized King James Version) \n14 The grace of the Lord Jesus Christ\, and the love of God\, and the communion of the Holy Ghost\, be with you all. Amen.
URL:https://tfcchurch.co.uk/event/ii-timothy-4-48/
LOCATION:Online
CATEGORIES:Fundamentals
END:VEVENT
BEGIN:VEVENT
DTSTART;VALUE=DATE:20250508
DTEND;VALUE=DATE:20250509
DTSTAMP:20260424T104338
CREATED:20250407T124532Z
LAST-MODIFIED:20250505T094555Z
UID:23321-1746662400-1746748799@tfcchurch.co.uk
SUMMARY:II Timothy 4
DESCRIPTION:II Timothy 4    8th May 2025 \nMinister Brian Bradley \n\n			\n		\n	\n	\n	\n	\n		Edited-Part-51-Significance-of-Bible-Names-2-Timothy-4-v-10-P61v5-8SalzburgD2Cor	\n	\n	\n\n	\n\nDedicatory Prayer and Reading  II Timothy 4:9-18 \nSermon Part 51 ‘Significance of Bible names’ II Timothy 4:10 \nPsalm 61:5-8 ‘For thou the vows that I did make‘ Tune Salzburg \nDoxology II Corinthians 13 (Authorized King James Version) \n14 The grace of the Lord Jesus Christ\, and the love of God\, and the communion of the Holy Ghost\, be with you all. Amen.
URL:https://tfcchurch.co.uk/event/ii-timothy-4-47/
LOCATION:Online
CATEGORIES:Fundamentals
END:VEVENT
BEGIN:VEVENT
DTSTART;VALUE=DATE:20250501
DTEND;VALUE=DATE:20250502
DTSTAMP:20260424T104338
CREATED:20250331T114459Z
LAST-MODIFIED:20250427T211029Z
UID:23272-1746057600-1746143999@tfcchurch.co.uk
SUMMARY:II Timothy 4
DESCRIPTION:II Timothy 4    1st May 2025 \nMinister Brian Bradley \n\n			\n		\n	\n	\n	\n	\n		Edited-Part-50-Demas-Hath-Forsaken-Me-2-Timothy-4-v-10-5-P57v1-3MartyrdomD2Cor	\n	\n	\n\n	\n\nDedicatory Prayer and Reading  Hebrews 12:1-14; II Timothy 4:9-10 \nSermon Part 50 ‘Demas hath forsaken me’ (5) II Timothy 4:10 \nPsalm 57:1-3 ‘Be merciful to me\, O God;‘ Tune Martyrdom \nDoxology II Corinthians 13 (Authorized King James Version) \n14 The grace of the Lord Jesus Christ\, and the love of God\, and the communion of the Holy Ghost\, be with you all. Amen.
URL:https://tfcchurch.co.uk/event/ii-timothy-4-46/
LOCATION:Online
CATEGORIES:Fundamentals
END:VEVENT
BEGIN:VEVENT
DTSTART;VALUE=DATE:20250424
DTEND;VALUE=DATE:20250425
DTSTAMP:20260424T104338
CREATED:20250324T123359Z
LAST-MODIFIED:20250421T104722Z
UID:23225-1745452800-1745539199@tfcchurch.co.uk
SUMMARY:II Timothy 4
DESCRIPTION:II Timothy 4    24th April 2025 \nMinister Brian Bradley \n\n			\n		\n	\n	\n	\n	\n		Edited-Part-49-Demas-Hath-Forsaken-Me-2-Timothy-4-v-10-4-P52v6-9StPeter-D2Cor	\n	\n	\n\n	\n\nDedicatory Prayer and Reading  Romans 6:1-23; II Timothy 4:10 \nSermon Part 49 ‘Demas hath forsaken me’ (4) II Timothy 4:10 \nPsalm 52:6-9 ‘The righteous shall it see\, and fear‘ Tune St Peter \nDoxology II Corinthians 13 (Authorized King James Version) \n14 The grace of the Lord Jesus Christ\, and the love of God\, and the communion of the Holy Ghost\, be with you all. Amen.
URL:https://tfcchurch.co.uk/event/ii-timothy-4-45/
LOCATION:Online
CATEGORIES:Fundamentals
END:VEVENT
BEGIN:VEVENT
DTSTART;VALUE=DATE:20250417
DTEND;VALUE=DATE:20250418
DTSTAMP:20260424T104338
CREATED:20250317T130259Z
LAST-MODIFIED:20250413T193652Z
UID:23183-1744848000-1744934399@tfcchurch.co.uk
SUMMARY:II Timothy 4
DESCRIPTION:II Timothy 4    17th April 2025 \nMinister Brian Bradley \n\n			\n		\n	\n	\n	\n	\n		Edited-Part-48-Demas-Hath-Forsaken-Me-2-Timothy-4-v-10-3-P51v8-14BeatitudoD2Cor	\n	\n	\n\n	\n\nDedicatory Prayer and Reading   Colossians 3:1-11; II Timothy 4:9-10 \nSermon Part 48 ‘Demas hath forsaken me’ (3) II Timothy 4:10 \nPsalm 51:8-14 ‘Of gladness and of joyfulness‘ Tune Beatitudo \nDoxology II Corinthians 13 (Authorized King James Version) \n14 The grace of the Lord Jesus Christ\, and the love of God\, and the communion of the Holy Ghost\, be with you all. Amen.
URL:https://tfcchurch.co.uk/event/ii-timothy-4-44/
LOCATION:Stalybridge
CATEGORIES:Fundamentals
END:VEVENT
BEGIN:VEVENT
DTSTART;VALUE=DATE:20250410
DTEND;VALUE=DATE:20250411
DTSTAMP:20260424T104338
CREATED:20250310T111821Z
LAST-MODIFIED:20250407T100312Z
UID:23142-1744243200-1744329599@tfcchurch.co.uk
SUMMARY:II Timothy 4
DESCRIPTION:II Timothy 4    10th April 2025 \nMinister Brian Bradley \n\n			\n		\n	\n	\n	\n	\n		Edited-Part-47-Demas-Hath-Forsaken-Me-2-Timothy-4-v-10-2-P50v9-15ZurichD2Cor	\n	\n	\n\n	\n\nDedicatory Prayer and Reading   I John 2:1-17; II Timothy 4:9-10 \nSermon Part 47 ‘Demas hath forsaken me’ (2) II Timothy 4:10 \nPsalm 50:9-15 ‘I’ll take no calf nor goats‘ Tune Zurich \nDoxology II Corinthians 13 (Authorized King James Version) \n14 The grace of the Lord Jesus Christ\, and the love of God\, and the communion of the Holy Ghost\, be with you all. Amen.
URL:https://tfcchurch.co.uk/event/ii-timothy-4-43/
LOCATION:Online
CATEGORIES:Fundamentals
END:VEVENT
END:VCALENDAR